BEGIN:VCALENDAR
VERSION:2.0
PRODID:-//Big Island Hawaii Region : Porsche Club of America - ECPv6.15.18//NONSGML v1.0//EN
CALSCALE:GREGORIAN
METHOD:PUBLISH
X-WR-CALNAME:Big Island Hawaii Region : Porsche Club of America
X-ORIGINAL-URL:https://bih.pca.org
X-WR-CALDESC:Events for Big Island Hawaii Region : Porsche Club of America
REFRESH-INTERVAL;VALUE=DURATION:PT1H
X-Robots-Tag:noindex
X-PUBLISHED-TTL:PT1H
BEGIN:VTIMEZONE
TZID:Pacific/Honolulu
BEGIN:STANDARD
TZOFFSETFROM:-1000
TZOFFSETTO:-1000
TZNAME:HST
DTSTART:20250101T000000
END:STANDARD
END:VTIMEZONE
BEGIN:VEVENT
DTSTART;TZID=Pacific/Honolulu:20261017T100000
DTEND;TZID=Pacific/Honolulu:20261017T140000
DTSTAMP:20260419T080506
CREATED:20240912T211704Z
LAST-MODIFIED:20260102T165547Z
UID:1331-1792231200-1792245600@bih.pca.org
SUMMARY:BIH's Oktoberfest
DESCRIPTION:BIH’s Oktoberfest\n$45 PER PERSON\, alcoholic beverages not included\, plus tip and tax\nTOTAL $56.12 PER PERSON\, inclusive. \nMENU:\nPork Chops\, Bratwurst\, Apple Sauce\, Potato Salad\, Grilled Brussels Sprouts\, Apple Strudel. \nThere is a limit of 30 people for the event. So far we are half way there and have to know by this Friday\, the 10th. \nWe are asking for an RSVP and taking a head count. We will be calling those who have not replied with a YES or NO providing we have not reached capacity. Make your reservations soon! \nContact Harbor Gallery at 808-882-1510 to make reservations or payments by credit or debit card. You can also send a check to PCA BIH\, P.O. Box 6050\, Kamuela\, HI 96743. You can also call our President Leo Dodier at 808-308-8884 for reservations. \nFor those who want to join us on the Driving Tour before the festivities\, we will meet starting at 10 AM in Waikoloa Village at the Highlands Center parking lot next to the highway\, and proceed uphill to Waimea and gather in front of HPA Campus\, before heading down Kawaihae Road to Harbor Gallery in Kawaihae for a personal break.From there it’s a straight shot on the Queen K to Kona Brewing down in the Old Industrial Center at 74-5612 Pawai Place around 12:45. \nBe prepared to YODEL! Accordion not required.
URL:https://bih.pca.org/event/bihs-oktoberfest/
LOCATION:Kona Brewing\, 74-5612 Pawai Place\, Kailua-Kona\, hawaii\, 96740
CATEGORIES:BIH Event,Social Event
ATTACH;FMTTYPE=image/jpeg:https://bih.pca.org/wp-content/uploads/2025/10/Events-GunnerM-Oktoberfest.jpg
END:VEVENT
END:VCALENDAR