BEGIN:VCALENDAR
VERSION:2.0
PRODID:-//Big Island Hawaii Region : Porsche Club of America - ECPv6.15.18//NONSGML v1.0//EN
CALSCALE:GREGORIAN
METHOD:PUBLISH
X-WR-CALNAME:Big Island Hawaii Region : Porsche Club of America
X-ORIGINAL-URL:https://bih.pca.org
X-WR-CALDESC:Events for Big Island Hawaii Region : Porsche Club of America
REFRESH-INTERVAL;VALUE=DURATION:PT1H
X-Robots-Tag:noindex
X-PUBLISHED-TTL:PT1H
BEGIN:VTIMEZONE
TZID:Pacific/Honolulu
BEGIN:STANDARD
TZOFFSETFROM:-1000
TZOFFSETTO:-1000
TZNAME:HST
DTSTART:20250101T000000
END:STANDARD
END:VTIMEZONE
BEGIN:VEVENT
DTSTART;TZID=Pacific/Honolulu:20261115T100000
DTEND;TZID=Pacific/Honolulu:20261115T140000
DTSTAMP:20260419T194922
CREATED:20240522T162543Z
LAST-MODIFIED:20260102T165037Z
UID:478-1794736800-1794751200@bih.pca.org
SUMMARY:UnStock 2026
DESCRIPTION:ünStock 2026\nModified Porsche owners\, this is the event for you! Join us on Sunday from 10 AM – 2 PM (PT)\, to display your prized Porsche at the 6th Annual Porsche Club of America ünStock event. \nJoin PCA and your fellow enthusiasts for great music\, delicious food\, and cool modified cars! \nMembership in PCA is not required to participate in this celebration of modified Porsche vehicles; however\, to have your vehicle considered for display\, you must complete the registration of your modified Porsche\, with a minimum of 3 visible modifications. There is no fee to register your vehicle for display. \nPlease note that your registration must be confirmed to display your car. Registering does not constitute official acceptance. Once your modifications have been reviewed and approved\, you will be notified\, and a special display hang tag will be mailed to you. \nSpectators are welcome to attend – no entrance fee! \nRegistration opens TBA \nMore information\, see: www.pca.org/events/unstock
URL:https://bih.pca.org/event/unstock/
LOCATION:Eibach\, Inc.\, 264 Mariah Circle\, Corona\, CA\, 92879\, United States
CATEGORIES:Car Show,Cars & Coffee,PCA National,Social Event
ATTACH;FMTTYPE=image/png:https://bih.pca.org/wp-content/uploads/2024/05/Events-Unstock.png
ORGANIZER;CN="Porsche Club of America":MAILTO:admin@pca.org
END:VEVENT
END:VCALENDAR